BEGIN:VCALENDAR
VERSION:2.0
PRODID:-//Goodwill of Colorado - ECPv6.15.20//NONSGML v1.0//EN
CALSCALE:GREGORIAN
METHOD:PUBLISH
X-ORIGINAL-URL:https://goodwillcolorado.org
X-WR-CALDESC:Events for Goodwill of Colorado
REFRESH-INTERVAL;VALUE=DURATION:PT1H
X-Robots-Tag:noindex
X-PUBLISHED-TTL:PT1H
BEGIN:VTIMEZONE
TZID:UTC
BEGIN:STANDARD
TZOFFSETFROM:+0000
TZOFFSETTO:+0000
TZNAME:UTC
DTSTART:20210101T000000
END:STANDARD
END:VTIMEZONE
BEGIN:VEVENT
DTSTART;TZID=UTC:20220924T100000
DTEND;TZID=UTC:20220924T140000
DTSTAMP:20260423T092518
CREATED:20220919T225712Z
LAST-MODIFIED:20220919T225712Z
UID:12267-1664013600-1664028000@goodwillcolorado.org
SUMMARY:Arvada Goodwill Hiring Event!
DESCRIPTION:Our Arvada Retail Store is hiring! Join us Saturday\, September 24th from 10am to 2pm to learn more and take part in an open interview!\nWe have many different full and part-time opportunities available: \n\nRetail Sales Associates\nRetail Production Associates\nDonation Services Associates\n\nSave time and Apply Online today! \n \nIf you are a motivated individual who is looking to make a difference\, Goodwill is the place for you. We offer competitive Benefits\nPackage including same day pay through DailyPay\, paid holidays\, vacation\, medical\, dental\, 403b Retirement Matching and more!
URL:https://goodwillcolorado.org/event/arvada-goodwill-hiring-event/
LOCATION:Goodwill Arvada Store\, 6340 McIntyre Parkway\, Arvada\, CO\, 80007\, United States
CATEGORIES:Events
ATTACH;FMTTYPE=image/png:https://goodwillcolorado.org/wp-content/uploads/2022/09/Arvada-Hiring-Event_September-24-1-2.png
END:VEVENT
BEGIN:VEVENT
DTSTART;TZID=UTC:20220415T100000
DTEND;TZID=UTC:20220415T180000
DTSTAMP:20260423T092518
CREATED:20220405T202611Z
LAST-MODIFIED:20220405T202611Z
UID:11809-1650016800-1650045600@goodwillcolorado.org
SUMMARY:Hiring Event - Open Interviews!
DESCRIPTION:Our Arvada Retail Store is hiring! Join us Friday\, April 15th from 10am to 6pm to learn more and take part in an open interview! We have many different opportunities available: \n\nRetail Sales Associates\nRetail Production Associates\nDonation Services Associates\n\nIf you are a motivated individual who is looking to make a difference\, Goodwill is the place for you. We offer competitive Benefits Package including paid holidays\, vacation\, medical\, dental\, 403b Retirement Matching and more. \nSave time and Apply Online today!
URL:https://goodwillcolorado.org/event/hiring-event-open-interviews-3/
LOCATION:Goodwill Arvada Store\, 6340 McIntyre Parkway\, Arvada\, CO\, 80007\, United States
CATEGORIES:Events
ATTACH;FMTTYPE=image/jpeg:https://goodwillcolorado.org/wp-content/uploads/2022/04/Arvada-Hiring-Event_April-15.jpg
END:VEVENT
END:VCALENDAR