BEGIN:VCALENDAR
VERSION:2.0
PRODID:-//Goodwill of Colorado - ECPv6.15.20//NONSGML v1.0//EN
CALSCALE:GREGORIAN
METHOD:PUBLISH
X-ORIGINAL-URL:https://goodwillcolorado.org
X-WR-CALDESC:Events for Goodwill of Colorado
REFRESH-INTERVAL;VALUE=DURATION:PT1H
X-Robots-Tag:noindex
X-PUBLISHED-TTL:PT1H
BEGIN:VTIMEZONE
TZID:UTC
BEGIN:STANDARD
TZOFFSETFROM:+0000
TZOFFSETTO:+0000
TZNAME:UTC
DTSTART:20210101T000000
END:STANDARD
END:VTIMEZONE
BEGIN:VEVENT
DTSTART;TZID=UTC:20220810T100000
DTEND;TZID=UTC:20220810T160000
DTSTAMP:20260424T180526
CREATED:20220808T193938Z
LAST-MODIFIED:20220808T193938Z
UID:12167-1660125600-1660147200@goodwillcolorado.org
SUMMARY:Monument Hiring Event
DESCRIPTION:Goodwill of Colorado is hiring at our beautiful Monument Store! \n15821 Jackson Creek Parkway\, Monument\, CO 80132 (Jackson Creek Parkway and Leathers Chaps Drive across the street from The Home Depot) \nJoin us for a Hiring Event Wednesday\, August 10th\, 2022\, from 10 am to 4 pm! We are hiring for Generalists\, Donations Associates and Janitors for our Store! Bring your Resume and be ready to interview. \nFull-time\, and part-time positions are available with various schedules. Goodwill changes lives across Colorado! If you’re searching for a career where you can make a real difference\, Goodwill of Colorado wants to hear from you! \nOur Store is open 7 days a week (9 a.m. to 9 p.m. Mondays through Saturdays\, 9 a.m. to 7 p.m. Sundays). Candidates hired for full-time positions will be eligible for benefits after 60 days. \nFor more information and apply visit our website here.
URL:https://goodwillcolorado.org/event/monument-hiring-event/
LOCATION:Monument Store\, 15821 Jackson Creek Parkway\, Monument\, CO\, 80132\, United States
CATEGORIES:Events
ATTACH;FMTTYPE=image/png:https://goodwillcolorado.org/wp-content/uploads/2022/08/Monument-Hiring-Event_August-10th-1.png
END:VEVENT
END:VCALENDAR